Package: RSVSim Version: 1.40.0 Command: /Library/Frameworks/R.framework/Resources/bin/R CMD build --keep-empty-dirs --no-resave-data RSVSim StartedAt: 2023-10-16 17:37:52 -0400 (Mon, 16 Oct 2023) EndedAt: 2023-10-16 17:39:32 -0400 (Mon, 16 Oct 2023) EllapsedTime: 99.7 seconds RetCode: 0 Status: OK PackageFile: RSVSim_1.40.0.tar.gz PackageFileSize: 504.8 KiB