Package: RIVER Version: 1.24.0 Command: rm -rf RIVER.buildbin-libdir && mkdir RIVER.buildbin-libdir && /Users/biocbuild/BBS/utils/build-universal.sh RIVER_1.24.0.tar.gz /Library/Frameworks/R.framework/Resources/bin/R RIVER.buildbin-libdir StartedAt: 2023-10-19 16:35:22 -0400 (Thu, 19 Oct 2023) EndedAt: 2023-10-19 16:35:47 -0400 (Thu, 19 Oct 2023) EllapsedTime: 24.8 seconds RetCode: 0 Status: OK PackageFile: RIVER_1.24.0.tgz PackageFileSize: 1.645 MiB