Package: NanoStringNCTools Version: 1.8.0 Command: /Library/Frameworks/R.framework/Resources/bin/R CMD build --keep-empty-dirs --no-resave-data NanoStringNCTools StartedAt: 2023-10-16 11:58:41 -0400 (Mon, 16 Oct 2023) EndedAt: 2023-10-16 11:59:43 -0400 (Mon, 16 Oct 2023) EllapsedTime: 62.3 seconds RetCode: 0 Status: OK PackageFile: NanoStringNCTools_1.8.0.tar.gz PackageFileSize: 352.3 KiB