Package: MeasurementError.cor Version: 1.72.0 Command: rm -rf MeasurementError.cor.buildbin-libdir && mkdir MeasurementError.cor.buildbin-libdir && /Users/biocbuild/BBS/utils/build-universal.sh MeasurementError.cor_1.72.0.tar.gz /Library/Frameworks/R.framework/Resources/bin/R MeasurementError.cor.buildbin-libdir StartedAt: 2023-10-19 14:38:38 -0400 (Thu, 19 Oct 2023) EndedAt: 2023-10-19 14:38:45 -0400 (Thu, 19 Oct 2023) EllapsedTime: 6.9 seconds RetCode: 0 Status: OK PackageFile: MeasurementError.cor_1.72.0.tgz PackageFileSize: 172.9 KiB