Package: MSstatsLiP Version: 1.6.0 Command: /Library/Frameworks/R.framework/Resources/bin/R CMD build --keep-empty-dirs --no-resave-data MSstatsLiP StartedAt: 2023-10-16 11:29:04 -0400 (Mon, 16 Oct 2023) EndedAt: 2023-10-16 11:31:07 -0400 (Mon, 16 Oct 2023) EllapsedTime: 122.5 seconds RetCode: 0 Status: OK PackageFile: MSstatsLiP_1.6.0.tar.gz PackageFileSize: 1.782 MiB