Package: GCSscore Version: 1.14.0 Command: /Library/Frameworks/R.framework/Resources/bin/R CMD build --keep-empty-dirs --no-resave-data GCSscore StartedAt: 2023-10-16 03:51:30 -0400 (Mon, 16 Oct 2023) EndedAt: 2023-10-16 03:57:36 -0400 (Mon, 16 Oct 2023) EllapsedTime: 365.9 seconds RetCode: 0 Status: OK PackageFile: GCSscore_1.14.0.tar.gz PackageFileSize: 4.313 MiB