Package: EBSeq Version: 1.40.0 Command: /Library/Frameworks/R.framework/Resources/bin/R CMD build --keep-empty-dirs --no-resave-data EBSeq StartedAt: 2023-10-16 02:20:59 -0400 (Mon, 16 Oct 2023) EndedAt: 2023-10-16 02:22:45 -0400 (Mon, 16 Oct 2023) EllapsedTime: 105.3 seconds RetCode: 0 Status: OK PackageFile: EBSeq_1.40.0.tar.gz PackageFileSize: 1.408 MiB