Package: CONSTANd Version: 1.8.0 Command: /Library/Frameworks/R.framework/Resources/bin/R CMD build --keep-empty-dirs --no-resave-data CONSTANd StartedAt: 2023-10-16 00:07:16 -0400 (Mon, 16 Oct 2023) EndedAt: 2023-10-16 00:07:28 -0400 (Mon, 16 Oct 2023) EllapsedTime: 11.7 seconds RetCode: 0 Status: OK PackageFile: CONSTANd_1.8.0.tar.gz PackageFileSize: 1.809 MiB