Package: rhdf5 Version: 2.44.0 Command: /home/biocbuild/bbs-3.17-bioc/R/bin/R CMD build --keep-empty-dirs --no-resave-data --no-build-vignettes --no-manual rhdf5 StartedAt: 2023-10-14 11:00:20 -0400 (Sat, 14 Oct 2023) EndedAt: 2023-10-14 11:00:21 -0400 (Sat, 14 Oct 2023) EllapsedTime: 1.6 seconds RetCode: 0 Status: OK PackageFile: rhdf5_2.44.0.tar.gz PackageFileSize: 400 KiB