Package: imcRtools Version: 1.6.5 Command: /home/biocbuild/bbs-3.17-bioc/R/bin/R CMD build --keep-empty-dirs --no-resave-data --no-build-vignettes --no-manual imcRtools StartedAt: 2023-10-14 11:00:18 -0400 (Sat, 14 Oct 2023) EndedAt: 2023-10-14 11:00:20 -0400 (Sat, 14 Oct 2023) EllapsedTime: 1.6 seconds RetCode: 0 Status: OK PackageFile: imcRtools_1.6.5.tar.gz PackageFileSize: 998.8 KiB