Package: xcore Version: 1.4.0 Command: /home/biocbuild/bbs-3.17-bioc/R/bin/R CMD build --keep-empty-dirs --no-resave-data xcore StartedAt: 2023-10-15 18:57:16 -0400 (Sun, 15 Oct 2023) EndedAt: 2023-10-15 18:58:44 -0400 (Sun, 15 Oct 2023) EllapsedTime: 87.6 seconds RetCode: 0 Status: OK PackageFile: xcore_1.4.0.tar.gz PackageFileSize: 2.386 MiB