Package: xcms Version: 3.22.0 Command: F:\biocbuild\bbs-3.17-bioc\R\bin\R.exe CMD INSTALL xcms StartedAt: 2023-10-15 16:43:12 -0400 (Sun, 15 Oct 2023) EndedAt: 2023-10-15 16:45:34 -0400 (Sun, 15 Oct 2023) EllapsedTime: 142.7 seconds RetCode: 0 Status: OK