Package: xcms Version: 3.22.0 Command: rm -rf xcms.buildbin-libdir && mkdir xcms.buildbin-libdir && F:\biocbuild\bbs-3.17-bioc\R\bin\R.exe CMD INSTALL --build --library=xcms.buildbin-libdir xcms_3.22.0.tar.gz StartedAt: 2023-10-16 09:43:09 -0400 (Mon, 16 Oct 2023) EndedAt: 2023-10-16 09:45:12 -0400 (Mon, 16 Oct 2023) EllapsedTime: 122.8 seconds RetCode: 0 Status: OK PackageFile: xcms_3.22.0.zip PackageFileSize: 6.299 MiB