Package: xcms Version: 3.22.0 Command: /home/biocbuild/bbs-3.17-bioc/R/bin/R CMD INSTALL xcms StartedAt: 2023-10-15 15:37:51 -0400 (Sun, 15 Oct 2023) EndedAt: 2023-10-15 15:39:12 -0400 (Sun, 15 Oct 2023) EllapsedTime: 81.3 seconds RetCode: 0 Status: OK