Package: xcms Version: 3.22.0 Command: /home/biocbuild/bbs-3.17-bioc/R/bin/R CMD build --keep-empty-dirs --no-resave-data xcms StartedAt: 2023-10-15 18:57:12 -0400 (Sun, 15 Oct 2023) EndedAt: 2023-10-15 19:01:20 -0400 (Sun, 15 Oct 2023) EllapsedTime: 248.0 seconds RetCode: 0 Status: OK PackageFile: xcms_3.22.0.tar.gz PackageFileSize: 6.211 MiB