Package: xcms Version: 3.22.0 Command: /Library/Frameworks/R.framework/Resources/bin/R CMD build --keep-empty-dirs --no-resave-data xcms StartedAt: 2023-10-15 22:09:10 -0400 (Sun, 15 Oct 2023) EndedAt: 2023-10-15 22:16:24 -0400 (Sun, 15 Oct 2023) EllapsedTime: 434.4 seconds RetCode: 0 Status: OK PackageFile: xcms_3.22.0.tar.gz PackageFileSize: 6.377 MiB