Package: xcms Version: 3.22.0 Command: rm -rf xcms.buildbin-libdir && mkdir xcms.buildbin-libdir && /Users/biocbuild/BBS/utils/build-universal.sh xcms_3.22.0.tar.gz /Library/Frameworks/R.framework/Resources/bin/R xcms.buildbin-libdir StartedAt: 2023-10-16 10:25:20 -0400 (Mon, 16 Oct 2023) EndedAt: 2023-10-16 10:27:54 -0400 (Mon, 16 Oct 2023) EllapsedTime: 154.2 seconds RetCode: 0 Status: OK PackageFile: xcms_3.22.0.tgz PackageFileSize: 9.047 MiB