Package: widgetTools Version: 1.78.0 Command: /Library/Frameworks/R.framework/Resources/bin/R CMD build --keep-empty-dirs --no-resave-data widgetTools StartedAt: 2023-10-15 22:07:53 -0400 (Sun, 15 Oct 2023) EndedAt: 2023-10-15 22:08:15 -0400 (Sun, 15 Oct 2023) EllapsedTime: 22.0 seconds RetCode: 0 Status: OK PackageFile: widgetTools_1.78.0.tar.gz PackageFileSize: 227.9 KiB