Package: weitrix Version: 1.12.0 Command: /home/biocbuild/bbs-3.17-bioc/R/bin/R CMD build --keep-empty-dirs --no-resave-data weitrix StartedAt: 2023-10-15 18:56:44 -0400 (Sun, 15 Oct 2023) EndedAt: 2023-10-15 19:05:10 -0400 (Sun, 15 Oct 2023) EllapsedTime: 505.7 seconds RetCode: 0 Status: OK PackageFile: weitrix_1.12.0.tar.gz PackageFileSize: 7.87 MiB