Package: webbioc Version: 1.72.0 Command: /home/biocbuild/bbs-3.17-bioc/R/bin/R CMD INSTALL webbioc StartedAt: 2023-10-15 15:37:46 -0400 (Sun, 15 Oct 2023) EndedAt: 2023-10-15 15:38:07 -0400 (Sun, 15 Oct 2023) EllapsedTime: 21.1 seconds RetCode: 0 Status: OK