Package: updateObject Version: 1.4.0 Command: /home/biocbuild/bbs-3.17-bioc/R/bin/R CMD build --keep-empty-dirs --no-resave-data updateObject StartedAt: 2023-10-15 18:53:34 -0400 (Sun, 15 Oct 2023) EndedAt: 2023-10-15 18:53:56 -0400 (Sun, 15 Oct 2023) EllapsedTime: 21.2 seconds RetCode: 0 Status: OK PackageFile: updateObject_1.4.0.tar.gz PackageFileSize: 1.29 MiB