Package: updateObject Version: 1.4.0 Command: rm -rf updateObject.buildbin-libdir && mkdir updateObject.buildbin-libdir && /Users/biocbuild/BBS/utils/build-universal.sh updateObject_1.4.0.tar.gz /Library/Frameworks/R.framework/Resources/bin/R updateObject.buildbin-libdir StartedAt: 2023-10-16 10:24:00 -0400 (Mon, 16 Oct 2023) EndedAt: 2023-10-16 10:24:17 -0400 (Mon, 16 Oct 2023) EllapsedTime: 16.9 seconds RetCode: 0 Status: OK PackageFile: updateObject_1.4.0.tgz PackageFileSize: 1.343 MiB