Package: unifiedWMWqPCR Version: 1.36.0 Command: /Library/Frameworks/R.framework/Resources/bin/R CMD INSTALL unifiedWMWqPCR StartedAt: 2023-10-15 15:09:51 -0400 (Sun, 15 Oct 2023) EndedAt: 2023-10-15 15:10:32 -0400 (Sun, 15 Oct 2023) EllapsedTime: 40.6 seconds RetCode: 0 Status: OK