Package: uncoverappLib Version: 1.10.0 Command: /Library/Frameworks/R.framework/Resources/bin/R CMD build --keep-empty-dirs --no-resave-data uncoverappLib StartedAt: 2023-10-15 22:02:05 -0400 (Sun, 15 Oct 2023) EndedAt: 2023-10-15 22:05:00 -0400 (Sun, 15 Oct 2023) EllapsedTime: 174.5 seconds RetCode: 0 Status: OK PackageFile: uncoverappLib_1.10.0.tar.gz PackageFileSize: 3.43 MiB