Package: uncoverappLib Version: 1.10.0 Command: rm -rf uncoverappLib.buildbin-libdir && mkdir uncoverappLib.buildbin-libdir && /Users/biocbuild/BBS/utils/build-universal.sh uncoverappLib_1.10.0.tar.gz /Library/Frameworks/R.framework/Resources/bin/R uncoverappLib.buildbin-libdir StartedAt: 2023-10-16 10:23:55 -0400 (Mon, 16 Oct 2023) EndedAt: 2023-10-16 10:26:40 -0400 (Mon, 16 Oct 2023) EllapsedTime: 165.3 seconds RetCode: 0 Status: OK PackageFile: uncoverappLib_1.10.0.tgz PackageFileSize: 2.831 MiB