Package: trigger Version: 1.46.0 Command: /Library/Frameworks/R.framework/Resources/bin/R CMD INSTALL trigger StartedAt: 2023-10-15 16:08:14 -0400 (Sun, 15 Oct 2023) EndedAt: 2023-10-15 16:09:41 -0400 (Sun, 15 Oct 2023) EllapsedTime: 87.4 seconds RetCode: 0 Status: OK