Package: treeio Version: 1.24.3 Command: /home/biocbuild/bbs-3.17-bioc/R/bin/R CMD build --keep-empty-dirs --no-resave-data treeio StartedAt: 2023-10-15 18:51:09 -0400 (Sun, 15 Oct 2023) EndedAt: 2023-10-15 18:51:18 -0400 (Sun, 15 Oct 2023) EllapsedTime: 9.2 seconds RetCode: 0 Status: OK PackageFile: treeio_1.24.3.tar.gz PackageFileSize: 684.5 KiB