Package: transformGamPoi Version: 1.6.0 Command: /home/biocbuild/bbs-3.17-bioc/R/bin/R CMD build --keep-empty-dirs --no-resave-data transformGamPoi StartedAt: 2023-10-15 18:50:31 -0400 (Sun, 15 Oct 2023) EndedAt: 2023-10-15 18:51:15 -0400 (Sun, 15 Oct 2023) EllapsedTime: 44.4 seconds RetCode: 0 Status: OK PackageFile: transformGamPoi_1.6.0.tar.gz PackageFileSize: 615.2 KiB