Package: transcriptogramer Version: 1.22.0 Command: /Library/Frameworks/R.framework/Resources/bin/R CMD INSTALL transcriptogramer StartedAt: 2023-10-15 15:32:07 -0400 (Sun, 15 Oct 2023) EndedAt: 2023-10-15 15:33:30 -0400 (Sun, 15 Oct 2023) EllapsedTime: 82.5 seconds RetCode: 0 Status: OK