Package: transcriptogramer Version: 1.22.0 Command: /Library/Frameworks/R.framework/Resources/bin/R CMD build --keep-empty-dirs --no-resave-data transcriptogramer StartedAt: 2023-10-15 21:57:05 -0400 (Sun, 15 Oct 2023) EndedAt: 2023-10-15 22:21:13 -0400 (Sun, 15 Oct 2023) EllapsedTime: 1448.0 seconds RetCode: 0 Status: OK PackageFile: transcriptogramer_1.22.0.tar.gz PackageFileSize: 3.63 MiB