Package: tilingArray Version: 1.78.0 Command: chmod a+r tilingArray -R && F:\biocbuild\bbs-3.17-bioc\R\bin\R.exe CMD build --keep-empty-dirs --no-resave-data tilingArray StartedAt: 2023-10-15 22:51:29 -0400 (Sun, 15 Oct 2023) EndedAt: 2023-10-15 22:52:15 -0400 (Sun, 15 Oct 2023) EllapsedTime: 46.4 seconds RetCode: 0 Status: OK PackageFile: tilingArray_1.78.0.tar.gz PackageFileSize: 3.141 MiB