Package: tilingArray Version: 1.78.0 Command: /home/biocbuild/bbs-3.17-bioc/R/bin/R CMD build --keep-empty-dirs --no-resave-data tilingArray StartedAt: 2023-10-15 18:48:41 -0400 (Sun, 15 Oct 2023) EndedAt: 2023-10-15 18:49:16 -0400 (Sun, 15 Oct 2023) EllapsedTime: 35.8 seconds RetCode: 0 Status: OK PackageFile: tilingArray_1.78.0.tar.gz PackageFileSize: 3.134 MiB