Package: tilingArray Version: 1.78.0 Command: /Library/Frameworks/R.framework/Resources/bin/R CMD build --keep-empty-dirs --no-resave-data tilingArray StartedAt: 2023-10-15 21:53:39 -0400 (Sun, 15 Oct 2023) EndedAt: 2023-10-15 21:55:15 -0400 (Sun, 15 Oct 2023) EllapsedTime: 95.9 seconds RetCode: 0 Status: OK PackageFile: tilingArray_1.78.0.tar.gz PackageFileSize: 3.488 MiB