Package: tidybulk Version: 1.12.0 Command: chmod a+r tidybulk -R && F:\biocbuild\bbs-3.17-bioc\R\bin\R.exe CMD build --keep-empty-dirs --no-resave-data tidybulk StartedAt: 2023-10-15 22:50:15 -0400 (Sun, 15 Oct 2023) EndedAt: 2023-10-15 22:54:23 -0400 (Sun, 15 Oct 2023) EllapsedTime: 247.9 seconds RetCode: 0 Status: OK PackageFile: tidybulk_1.12.0.tar.gz PackageFileSize: 3.911 MiB