Package: tidybulk Version: 1.12.0 Command: rm -rf tidybulk.buildbin-libdir && mkdir tidybulk.buildbin-libdir && F:\biocbuild\bbs-3.17-bioc\R\bin\R.exe CMD INSTALL --build --library=tidybulk.buildbin-libdir tidybulk_1.12.0.tar.gz StartedAt: 2023-10-16 09:39:12 -0400 (Mon, 16 Oct 2023) EndedAt: 2023-10-16 09:40:14 -0400 (Mon, 16 Oct 2023) EllapsedTime: 61.9 seconds RetCode: 0 Status: OK PackageFile: tidybulk_1.12.0.zip PackageFileSize: 4.159 MiB