Package: tidybulk Version: 1.12.0 Command: /home/biocbuild/bbs-3.17-bioc/R/bin/R CMD check --install=check:tidybulk.install-out.txt --library=/home/biocbuild/bbs-3.17-bioc/R/site-library --timings tidybulk_1.12.0.tar.gz StartedAt: 2023-10-16 01:44:10 -0400 (Mon, 16 Oct 2023) EndedAt: 2023-10-16 01:54:57 -0400 (Mon, 16 Oct 2023) EllapsedTime: 646.6 seconds RetCode: 0 Status: WARNINGS CheckDir: tidybulk.Rcheck Warnings: 1