Package: tidybulk Version: 1.12.0 Command: /home/biocbuild/bbs-3.17-bioc/R/bin/R CMD build --keep-empty-dirs --no-resave-data tidybulk StartedAt: 2023-10-15 18:48:09 -0400 (Sun, 15 Oct 2023) EndedAt: 2023-10-15 18:51:07 -0400 (Sun, 15 Oct 2023) EllapsedTime: 178.1 seconds RetCode: 0 Status: OK PackageFile: tidybulk_1.12.0.tar.gz PackageFileSize: 4.237 MiB