Package: tidybulk Version: 1.12.0 Command: /Library/Frameworks/R.framework/Resources/bin/R CMD build --keep-empty-dirs --no-resave-data tidybulk StartedAt: 2023-10-15 21:52:46 -0400 (Sun, 15 Oct 2023) EndedAt: 2023-10-15 22:00:06 -0400 (Sun, 15 Oct 2023) EllapsedTime: 440.5 seconds RetCode: 0 Status: OK PackageFile: tidybulk_1.12.0.tar.gz PackageFileSize: 4.349 MiB