Package: tidybulk Version: 1.12.0 Command: rm -rf tidybulk.buildbin-libdir && mkdir tidybulk.buildbin-libdir && /Users/biocbuild/BBS/utils/build-universal.sh tidybulk_1.12.0.tar.gz /Library/Frameworks/R.framework/Resources/bin/R tidybulk.buildbin-libdir StartedAt: 2023-10-16 10:20:59 -0400 (Mon, 16 Oct 2023) EndedAt: 2023-10-16 10:23:38 -0400 (Mon, 16 Oct 2023) EllapsedTime: 159.1 seconds RetCode: 0 Status: OK PackageFile: tidybulk_1.12.0.tgz PackageFileSize: 4.563 MiB