Package: systemPipeTools Version: 1.8.0 Command: /home/biocbuild/bbs-3.17-bioc/R/bin/R CMD check --install=check:systemPipeTools.install-out.txt --library=/home/biocbuild/bbs-3.17-bioc/R/site-library --timings systemPipeTools_1.8.0.tar.gz StartedAt: 2023-10-16 01:39:52 -0400 (Mon, 16 Oct 2023) EndedAt: 2023-10-16 01:44:16 -0400 (Mon, 16 Oct 2023) EllapsedTime: 263.8 seconds RetCode: 0 Status: WARNINGS CheckDir: systemPipeTools.Rcheck Warnings: 1