Package: systemPipeR Version: 2.6.3 Command: /home/biocbuild/bbs-3.17-bioc/R/bin/R CMD build --keep-empty-dirs --no-resave-data systemPipeR StartedAt: 2023-10-15 18:45:52 -0400 (Sun, 15 Oct 2023) EndedAt: 2023-10-15 18:47:06 -0400 (Sun, 15 Oct 2023) EllapsedTime: 74.0 seconds RetCode: 0 Status: OK PackageFile: systemPipeR_2.6.3.tar.gz PackageFileSize: 7.07 MiB