Package: systemPipeR Version: 2.6.3 Command: /Library/Frameworks/R.framework/Resources/bin/R CMD INSTALL systemPipeR StartedAt: 2023-10-15 15:44:13 -0400 (Sun, 15 Oct 2023) EndedAt: 2023-10-15 15:46:44 -0400 (Sun, 15 Oct 2023) EllapsedTime: 150.9 seconds RetCode: 0 Status: OK