Package: synlet Version: 2.0.0 Command: /home/biocbuild/bbs-3.17-bioc/R/bin/R CMD INSTALL synlet StartedAt: 2023-10-15 15:15:35 -0400 (Sun, 15 Oct 2023) EndedAt: 2023-10-15 15:15:42 -0400 (Sun, 15 Oct 2023) EllapsedTime: 6.2 seconds RetCode: 0 Status: OK