Package: switchBox Version: 1.36.0 Command: /home/biocbuild/bbs-3.17-bioc/R/bin/R CMD build --keep-empty-dirs --no-resave-data switchBox StartedAt: 2023-10-15 18:45:15 -0400 (Sun, 15 Oct 2023) EndedAt: 2023-10-15 18:45:24 -0400 (Sun, 15 Oct 2023) EllapsedTime: 9.3 seconds RetCode: 0 Status: OK PackageFile: switchBox_1.36.0.tar.gz PackageFileSize: 472.2 KiB