Package: swfdr Version: 1.26.0 Command: chmod a+r swfdr -R && F:\biocbuild\bbs-3.17-bioc\R\bin\R.exe CMD build --keep-empty-dirs --no-resave-data swfdr StartedAt: 2023-10-15 22:45:22 -0400 (Sun, 15 Oct 2023) EndedAt: 2023-10-15 22:46:27 -0400 (Sun, 15 Oct 2023) EllapsedTime: 64.4 seconds RetCode: 0 Status: OK PackageFile: swfdr_1.26.0.tar.gz PackageFileSize: 1.208 MiB