Package: swfdr Version: 1.26.0 Command: rm -rf swfdr.buildbin-libdir && mkdir swfdr.buildbin-libdir && F:\biocbuild\bbs-3.17-bioc\R\bin\R.exe CMD INSTALL --build --library=swfdr.buildbin-libdir swfdr_1.26.0.tar.gz StartedAt: 2023-10-16 09:37:46 -0400 (Mon, 16 Oct 2023) EndedAt: 2023-10-16 09:37:51 -0400 (Mon, 16 Oct 2023) EllapsedTime: 5.3 seconds RetCode: 0 Status: OK PackageFile: swfdr_1.26.0.zip PackageFileSize: 1.448 MiB