Package: swfdr Version: 1.26.0 Command: /home/biocbuild/bbs-3.17-bioc/R/bin/R CMD check --install=check:swfdr.install-out.txt --library=/home/biocbuild/bbs-3.17-bioc/R/site-library --timings swfdr_1.26.0.tar.gz StartedAt: 2023-10-16 01:36:37 -0400 (Mon, 16 Oct 2023) EndedAt: 2023-10-16 01:37:47 -0400 (Mon, 16 Oct 2023) EllapsedTime: 69.3 seconds RetCode: 0 Status: WARNINGS CheckDir: swfdr.Rcheck Warnings: 1