Package: swfdr Version: 1.26.0 Command: /Library/Frameworks/R.framework/Resources/bin/R CMD build --keep-empty-dirs --no-resave-data swfdr StartedAt: 2023-10-15 21:47:14 -0400 (Sun, 15 Oct 2023) EndedAt: 2023-10-15 21:49:18 -0400 (Sun, 15 Oct 2023) EllapsedTime: 124.1 seconds RetCode: 0 Status: OK PackageFile: swfdr_1.26.0.tar.gz PackageFileSize: 1.203 MiB