Package: subSeq Version: 1.30.0 Command: /home/biocbuild/bbs-3.17-bioc/R/bin/R CMD build --keep-empty-dirs --no-resave-data subSeq StartedAt: 2023-10-15 18:43:50 -0400 (Sun, 15 Oct 2023) EndedAt: 2023-10-15 18:44:38 -0400 (Sun, 15 Oct 2023) EllapsedTime: 47.5 seconds RetCode: 0 Status: OK PackageFile: subSeq_1.30.0.tar.gz PackageFileSize: 2.909 MiB