Package: structToolbox Version: 1.12.3 Command: rm -rf structToolbox.buildbin-libdir && mkdir structToolbox.buildbin-libdir && F:\biocbuild\bbs-3.17-bioc\R\bin\R.exe CMD INSTALL --build --library=structToolbox.buildbin-libdir structToolbox_1.12.3.tar.gz StartedAt: 2023-10-16 09:37:08 -0400 (Mon, 16 Oct 2023) EndedAt: 2023-10-16 09:38:14 -0400 (Mon, 16 Oct 2023) EllapsedTime: 65.6 seconds RetCode: 0 Status: OK PackageFile: structToolbox_1.12.3.zip PackageFileSize: 4.21 MiB